BEGIN:VCALENDAR
VERSION:2.0
PRODID:-//Tasmanian Scuba Diving Club - ECPv6.15.17.1//NONSGML v1.0//EN
CALSCALE:GREGORIAN
METHOD:PUBLISH
X-WR-CALNAME:Tasmanian Scuba Diving Club
X-ORIGINAL-URL:https://tsdc.org.au
X-WR-CALDESC:Events for Tasmanian Scuba Diving Club
REFRESH-INTERVAL;VALUE=DURATION:PT1H
X-Robots-Tag:noindex
X-PUBLISHED-TTL:PT1H
BEGIN:VTIMEZONE
TZID:Australia/Hobart
BEGIN:STANDARD
TZOFFSETFROM:+1100
TZOFFSETTO:+1000
TZNAME:AEST
DTSTART:20240406T160000
END:STANDARD
BEGIN:DAYLIGHT
TZOFFSETFROM:+1000
TZOFFSETTO:+1100
TZNAME:AEDT
DTSTART:20241005T160000
END:DAYLIGHT
BEGIN:STANDARD
TZOFFSETFROM:+1100
TZOFFSETTO:+1000
TZNAME:AEST
DTSTART:20250405T160000
END:STANDARD
BEGIN:DAYLIGHT
TZOFFSETFROM:+1000
TZOFFSETTO:+1100
TZNAME:AEDT
DTSTART:20251004T160000
END:DAYLIGHT
BEGIN:STANDARD
TZOFFSETFROM:+1100
TZOFFSETTO:+1000
TZNAME:AEST
DTSTART:20260404T160000
END:STANDARD
BEGIN:DAYLIGHT
TZOFFSETFROM:+1000
TZOFFSETTO:+1100
TZNAME:AEDT
DTSTART:20261003T160000
END:DAYLIGHT
END:VTIMEZONE
BEGIN:VEVENT
DTSTART;TZID=Australia/Hobart:20250426T083000
DTEND;TZID=Australia/Hobart:20250427T170000
DTSTAMP:20260422T000430
CREATED:20250310T041420Z
LAST-MODIFIED:20250313T083549Z
UID:2847-1745656200-1745773200@tsdc.org.au
SUMMARY:Tech diving in Bicheno 26/27 April
DESCRIPTION:Tech diving weekend in Bicheno\, 26/27 April. Take the plunge to 45m max on one of the days\, and 100m max on the other (will be decided depending on conditions)\, with a second shallower dive later in the day. Max 6 people per day. Sign up to the day(s) that interest you\, at $35-$50 per dive (distance dependent). \n  \n    \n                                    \n                    100m (max) day Bicheno 26/27 Apr\n                    \n                                                                                                                \n                                    Mark Kolodziej\n                                \n                                                                                                                                            \n                                    Bob van der Velde\n                                \n                                                                                                                                            \n                                    James Parkinson\n                                \n                                                                        \n                \n                                                \n                    45m (max) day Bicheno 26/27 Apr\n                    \n                                                                                                                \n                                    Craig Douglas \n                                \n                                                                                                                                            \n                                    Jason Hoare\n                                \n                                                                                                                                            \n                                    Mark Kolodziej\n                                \n                                                                                                                                            \n                                    Bob van der Velde\n                                \n                                                                                                                                            \n                                    James Parkinson\n                                \n                                                                                                                                            \n                                    John harbinson
URL:https://tsdc.org.au/event/tech-bicheno-26-apr-25/
LOCATION:Bicheno marina\, Bicheno Marina\, Bicheno\, tasmania\, Australia
CATEGORIES:Boat dive,Technical
END:VEVENT
END:VCALENDAR