BEGIN:VCALENDAR
VERSION:2.0
PRODID:-//Tasmanian Scuba Diving Club - ECPv6.15.17.1//NONSGML v1.0//EN
CALSCALE:GREGORIAN
METHOD:PUBLISH
X-WR-CALNAME:Tasmanian Scuba Diving Club
X-ORIGINAL-URL:https://tsdc.org.au
X-WR-CALDESC:Events for Tasmanian Scuba Diving Club
REFRESH-INTERVAL;VALUE=DURATION:PT1H
X-Robots-Tag:noindex
X-PUBLISHED-TTL:PT1H
BEGIN:VTIMEZONE
TZID:Australia/Hobart
BEGIN:STANDARD
TZOFFSETFROM:+1100
TZOFFSETTO:+1000
TZNAME:AEST
DTSTART:20240406T160000
END:STANDARD
BEGIN:DAYLIGHT
TZOFFSETFROM:+1000
TZOFFSETTO:+1100
TZNAME:AEDT
DTSTART:20241005T160000
END:DAYLIGHT
BEGIN:STANDARD
TZOFFSETFROM:+1100
TZOFFSETTO:+1000
TZNAME:AEST
DTSTART:20250405T160000
END:STANDARD
BEGIN:DAYLIGHT
TZOFFSETFROM:+1000
TZOFFSETTO:+1100
TZNAME:AEDT
DTSTART:20251004T160000
END:DAYLIGHT
BEGIN:STANDARD
TZOFFSETFROM:+1100
TZOFFSETTO:+1000
TZNAME:AEST
DTSTART:20260404T160000
END:STANDARD
BEGIN:DAYLIGHT
TZOFFSETFROM:+1000
TZOFFSETTO:+1100
TZNAME:AEDT
DTSTART:20261003T160000
END:DAYLIGHT
END:VTIMEZONE
BEGIN:VEVENT
DTSTART;TZID=Australia/Hobart:20251101T083000
DTEND;TZID=Australia/Hobart:20251101T170000
DTSTAMP:20260420T182453
CREATED:20250916T101638Z
LAST-MODIFIED:20251023T215532Z
UID:3436-1761985800-1762016400@tsdc.org.au
SUMMARY:East coast diving AOW and beyond - 1st OR 2nd November - TBC depending on conditions
DESCRIPTION:Enjoy some outstanding diving on the east coast\, at one of Tassie’s many iconic locations – Bicheno\, Schouten Island or Ile des Phoques. A decision about the site will be made closer to the date and based on conditions and attendees’ interests. Sign up for a couple of great dives\, $85 for the double dive\, suitable for AOW certifications and above. Mark will be in touch closer to the date about whether we go on the Saturday or the Sunday – again\, dependent on conditions. \nWho’s Attending:\n    \n                                    \n                    East coast diving - 1st OR 2nd Nov\n                    \n                                                                                                                \n                                    Jane Ruckert\n                                \n                                                                                                                                            \n                                    Bob VdV\n                                \n                                                                                                                                            \n                                    Alejandro Rojas\n                                \n                                                                                                                                            \n                                    Isabel Lugo\n                                \n                                                                                                                                            \n                                    John Harbinson\n                                \n                                                                                                                                            \n                                    Stephen Dodge\n                                \n                                                                                                                                            \n                                    Daniel Harrison\n                                \n                                                                                                                                            \n                                    Daniel Martinez\n                                \n                                                                                                                                            \n                                    Jennel Mandado\n                                \n                                                                                                                                            \n                                    Jason Hoare\n                                \n                                                                                                                                            \n                                    Mark Kolodziej
URL:https://tsdc.org.au/event/east-coast-diving/
LOCATION:TBC
CATEGORIES:Advanced,Boat dive,Technical
END:VEVENT
END:VCALENDAR